BEGIN:VCALENDAR
VERSION:2.0
PRODID:icalendar-ruby
CALSCALE:GREGORIAN
BEGIN:VTIMEZONE
TZID:America/New_York
BEGIN:DAYLIGHT
DTSTART:20260308T030000
TZOFFSETFROM:-0500
TZOFFSETTO:-0400
RRULE:FREQ=YEARLY;BYDAY=2SU;BYMONTH=3
TZNAME:EDT
END:DAYLIGHT
BEGIN:STANDARD
DTSTART:20261101T010000
TZOFFSETFROM:-0400
TZOFFSETTO:-0500
RRULE:FREQ=YEARLY;BYDAY=1SU;BYMONTH=11
TZNAME:EST
END:STANDARD
END:VTIMEZONE
BEGIN:VEVENT
DTSTAMP:20260422T093052Z
UID:https://qaathome.helpfulvillage.com/events/1210
DTSTART;TZID=America/New_York:20260715T160000
DTEND;TZID=America/New_York:20260715T180000
CLASS:PRIVATE
CREATED:20260419T093606
DESCRIPTION:
LAST-MODIFIED:20260419T093819
LOCATION:Mama Mia's\, 219 E. Water Street\, Centreville\, MD 21617
SUMMARY:Village event: Happy Hour at Mama Mia's
URL;VALUE=URI:https://qaathome.helpfulvillage.com/events/1210
END:VEVENT
END:VCALENDAR
